BEGIN:VCALENDAR
VERSION:2.0
PRODID:-//Tarcza Poznań - ECPv6.1.3//NONSGML v1.0//EN
CALSCALE:GREGORIAN
METHOD:PUBLISH
X-ORIGINAL-URL:http://tarcza-poznan.pl
X-WR-CALDESC:Events for Tarcza Poznań
REFRESH-INTERVAL;VALUE=DURATION:PT1H
X-Robots-Tag:noindex
X-PUBLISHED-TTL:PT1H
BEGIN:VTIMEZONE
TZID:Europe/Warsaw
BEGIN:DAYLIGHT
TZOFFSETFROM:+0100
TZOFFSETTO:+0200
TZNAME:CEST
DTSTART:20220327T010000
END:DAYLIGHT
BEGIN:STANDARD
TZOFFSETFROM:+0200
TZOFFSETTO:+0100
TZNAME:CET
DTSTART:20221030T010000
END:STANDARD
END:VTIMEZONE
BEGIN:VEVENT
DTSTART;VALUE=DATE:20220211
DTEND;VALUE=DATE:20220214
DTSTAMP:20260423T200747
CREATED:20220201T104200Z
LAST-MODIFIED:20220201T131203Z
UID:2495-1644537600-1644796799@tarcza-poznan.pl
SUMMARY:IV Edycja POZNAŃ FIVE STEEL O PUCHAR PREZESA WZSS
DESCRIPTION:Zapraszamy na zawody strzeleckie. \nIV Edycja POZNAŃ FIVE STEEL O PUCHAR PREZESA WIELKOPOLSKIEGO ZWIĄZKU STRZELECTWA SPORTOWEGO \nna strzelnice NITRO w Mościenicy\nOs. Lipowe 16 (strzelnica w budynku). \nIV Edycja:\n– 11.02.2022 r. od 10.00 do 18.00\n– 12.02.2022 r. od 9.00 do 18.00\n– 13.02.2022 r. od 9.00 do 17.00 \nMinimalna ilość strzałów: 160\nTory: 6 \nKlasy sprzętowe:\nPistolet – Production\, Standard\, Open\nKarabin PCC \nStartowe: 120 zł. \nZgłoszenia do zawodów na wyznaczone godziny: kaka215@op.pl lub 601722378. \nKażdy zgłaszający się zawodnik ma możliwość wyboru jednego z trzech ustalonych dni w miesiącu oraz godziny . \nSzczegółowy regulamin na stronie: tarcza-poznan.pl/komunikaty \n  \n  \n  \n 
URL:http://tarcza-poznan.pl/wydarzenie/iv-edycja-poznan-five-steel-o-puchar-prezesa-wzss/
ATTACH;FMTTYPE=image/jpeg:http://tarcza-poznan.pl/wp-content/uploads/2022/02/Landscape-Travel-Photo-YouTube-Thumbnail.jpeg
END:VEVENT
END:VCALENDAR