BEGIN:VCALENDAR
VERSION:2.0
PRODID:-//Tarcza Poznań - ECPv6.1.3//NONSGML v1.0//EN
CALSCALE:GREGORIAN
METHOD:PUBLISH
X-WR-CALNAME:Tarcza Poznań
X-ORIGINAL-URL:http://tarcza-poznan.pl
X-WR-CALDESC:Events for Tarcza Poznań
REFRESH-INTERVAL;VALUE=DURATION:PT1H
X-Robots-Tag:noindex
X-PUBLISHED-TTL:PT1H
BEGIN:VTIMEZONE
TZID:Europe/Warsaw
BEGIN:DAYLIGHT
TZOFFSETFROM:+0100
TZOFFSETTO:+0200
TZNAME:CEST
DTSTART:20220327T010000
END:DAYLIGHT
BEGIN:STANDARD
TZOFFSETFROM:+0200
TZOFFSETTO:+0100
TZNAME:CET
DTSTART:20221030T010000
END:STANDARD
END:VTIMEZONE
BEGIN:VEVENT
DTSTART;VALUE=DATE:20220226
DTEND;VALUE=DATE:20220228
DTSTAMP:20260423T200727
CREATED:20220212T181420Z
LAST-MODIFIED:20220212T181420Z
UID:2504-1645833600-1646006399@tarcza-poznan.pl
SUMMARY:PISTOLET IPSC + PCC L.1 - 26/27.02.2022
DESCRIPTION:Zapraszamy na zawody PISTOLET IPSC + PCC L.1 – 26/27.02.2022 \nOrganizator: Klub Strzelecki TARCZA POZNAŃ oraz Strzelnica NITRO. \nStrzelnica w budynku więc pogoda nam niestraszna! \nZawody wpisane do kalendarza WZSS. \nMin.ilość strzałów: 90 – 100\nIlość torów: 4 – 5 \nKlasy sprzętowe:\n– Pistolet: Production\, Standard oraz Open\n– PCC\n– Mini Rifle \nOtwarcie klasy przy min. 5 zawodnikach! \nWpisowe: 100 zł. (od klasy sprzętowej) \nZapisy na wyznaczone godziny: kaka215@op.pl lub 601722378.
URL:http://tarcza-poznan.pl/wydarzenie/pistolet-ipsc-pcc-l-1-26-27-02-2022/
ATTACH;FMTTYPE=image/png:http://tarcza-poznan.pl/wp-content/uploads/2022/02/FIVE-STEEL.png
END:VEVENT
END:VCALENDAR