BEGIN:VCALENDAR
VERSION:2.0
PRODID:-//Tarcza Poznań - ECPv6.1.3//NONSGML v1.0//EN
CALSCALE:GREGORIAN
METHOD:PUBLISH
X-WR-CALNAME:Tarcza Poznań
X-ORIGINAL-URL:http://tarcza-poznan.pl
X-WR-CALDESC:Events for Tarcza Poznań
REFRESH-INTERVAL;VALUE=DURATION:PT1H
X-Robots-Tag:noindex
X-PUBLISHED-TTL:PT1H
BEGIN:VTIMEZONE
TZID:Europe/Warsaw
BEGIN:DAYLIGHT
TZOFFSETFROM:+0100
TZOFFSETTO:+0200
TZNAME:CEST
DTSTART:20220327T010000
END:DAYLIGHT
BEGIN:STANDARD
TZOFFSETFROM:+0200
TZOFFSETTO:+0100
TZNAME:CET
DTSTART:20221030T010000
END:STANDARD
END:VTIMEZONE
BEGIN:VEVENT
DTSTART;VALUE=DATE:20220703
DTEND;VALUE=DATE:20220704
DTSTAMP:20260423T111506
CREATED:20220525T112724Z
LAST-MODIFIED:20220525T112724Z
UID:2545-1656806400-1656892799@tarcza-poznan.pl
SUMMARY:MISTRZOSTWA WIELKOPOLSKI PISTOLET IPSC + PCC L.1
DESCRIPTION:Kierownik zawodów: Krzysztof Klaczyński\, Leszek Madajewski \nOrganizatorzy: Wielkopolski Związek Strzelectwa Sportowego\, WTS TARCZA POZNAŃ\nStrzelnica: NIECZAJNA 33 \nMinimalna liczba strzałów: 140 – 160\nLiczba torów: 7 \nKlasy: Production\, Production Optics\, Standard\, Open\, PCC (otwarcie klasy przy min. 5 zawodnikach)\nKategorie: Regular\, Lady\, Senior\, Super Senior (otwarcie kategorii przy min. 5 zawodnikach) \nPrzedmecz: Sobota – 02.07.2022 od godz.11.00\nMecz główny: Niedziela – 03.07.2022 od godz. 9.00 (pierwsze strzały) \nSkłady: 7 składów – 10/12 strzelców \nLink do rejestracji: https://practiscore.com/mistrzostwa-wielkopolski-pistolet-ipsc-pcc-l-1/register \nOpłata startowa: 200 PLN (od klasy) – prosimy kierować na konto: \nWielkopolski Towarzystwo Strzelecki TARCZA POZNAŃ\nBank Spółdzielczy Duszniki\n84 9072 0002 2018 1800 5143 0001\nTytuł wpłaty: IMIĘ NAZWISKO\, M.W. Pistolet IPSC+PCC \nWERYFIKACJA OPŁAT: 21.06.2022\nJeżeli zajdzie konieczność po terminie 21.06.2022\, zawodnicy z nieopłaconą opłatą startową\, będą przenoszeni do składu rezerwowego\, aby zwolnić miejsce innym chętnym do udziału w zawodach. \nOpłata startowa dla zawodników płacących w dniu zawodów na strzelnicy: 250 PLN\njeżeli będą wolne miejsca.\nOpłata nie może być wycofana\, może być przeniesiona na innego zawodnika.\nOrganizator zastrzega sobie prawo do zmian w składach ze względów organizacyjnych.\nOrganizator zastrzega sobie prawo odwołania zawodów bez podania przyczyny. W tej sytuacji opłata startowa będzie zwracana na konto zawodnika.\nPrzepisy: IPSC\, ostatnia edycja i interpretacje. \nOgraniczenia: Tylko dla zawodników posiadających licencję zawodniczą PZSS na rok 2022 \nKontakt z organizatorem: Krzysztof Klaczyński – 601 722 378\, e-mail: kaka215@op.pl\nLeszek Madajewski – 604 458 508\, e-mail: leszek@uklad.com.pl
URL:http://tarcza-poznan.pl/wydarzenie/mistrzostwa-wielkopolski-pistolet-ipsc-pcc-l-1/
ATTACH;FMTTYPE=image/png:http://tarcza-poznan.pl/wp-content/uploads/2022/05/5.png
END:VEVENT
END:VCALENDAR