BEGIN:VCALENDAR
VERSION:2.0
PRODID:-//Tarcza Poznań - ECPv6.1.3//NONSGML v1.0//EN
CALSCALE:GREGORIAN
METHOD:PUBLISH
X-WR-CALNAME:Tarcza Poznań
X-ORIGINAL-URL:http://tarcza-poznan.pl
X-WR-CALDESC:Events for Tarcza Poznań
REFRESH-INTERVAL;VALUE=DURATION:PT1H
X-Robots-Tag:noindex
X-PUBLISHED-TTL:PT1H
BEGIN:VTIMEZONE
TZID:Europe/Warsaw
BEGIN:DAYLIGHT
TZOFFSETFROM:+0100
TZOFFSETTO:+0200
TZNAME:CEST
DTSTART:20210328T010000
END:DAYLIGHT
BEGIN:STANDARD
TZOFFSETFROM:+0200
TZOFFSETTO:+0100
TZNAME:CET
DTSTART:20211031T010000
END:STANDARD
END:VTIMEZONE
BEGIN:VEVENT
DTSTART;VALUE=DATE:20210516
DTEND;VALUE=DATE:20210517
DTSTAMP:20260424T021341
CREATED:20210321T085545Z
LAST-MODIFIED:20210504T165522Z
UID:2391-1621123200-1621209599@tarcza-poznan.pl
SUMMARY:MISTRZOSTWA WIELKOPOLSKI - STRZELBA IPSC - LEVEL 2
DESCRIPTION:Kierownik zawodów: Krzysztof Klaczyński\nSędzia główny: Leszek Madajewski\nKierownik biura obliczeń: Marta Madajewska\nDelegat Techniczny PZSS: Robert Wrona\nOrganizatorzy: Wielkopolski Związek Strzelectwa Sportowego \, WTS TARCZA POZNAŃ\nStrzelnica: NIECZAJNA 33\nMinimalna liczba strzałów: 140-160\nLiczba torów: 9\nKlasy: Open\, Standard\, Standard Manual\, Modified ( otwarcie klasy przy min. 5 zawodnikach )\nKategorie: Regular\, Lady\, Senior\, Super Senior ( otwarcie kategorii przy min. 5 zawodnikach )\nAmunicja: Zgodna z przepisami IPSC\nPrzedmecz: Sobota – 15.05.2021\nMecz główny: Niedziela – 16.05.2021\nSkłady: 7 składów po 10 strzelców\nGun check na pierwszym torze. \nLink rejestracyjny \nhttp://bityl.pl/NGMPG \nOpłata startowa (PLN): 300 PLN prosimy kierować na konto:\nOdbiorca: Wielkopolski Towarzystwo Strzelecki TARCZA POZNAŃ\nBank Spółdzielczy Duszniki\n84 9072 0002 2018 1800 5143 0001\nTytuł wpłaty: IMIĘ NAZWISKO \, M.W. Strzelba L.2\nWERYFIKACJA OPŁAT: 1.05.2021\nJeżeli zajdzie konieczność po terminie 1.05.2021\, zawodnicy z nieopłaconą opłatą startową\, będą\nprzenoszeni do składu oczekującego aby zwolnić miejsce innym chętnym do udziału w zawodach\, którzy\nopłacili opłatę.\nOpłata startowa dla zawodników płacących w dniu zawodów na strzelnicy: 400 PLN\nOpłata nie może być wycofana\, może być przeniesiona na innego zawodnika.\nOrganizator zastrzega sobie prawo do zmian w składach ze względów organizacyjnych .\nOpłata arbitrażowa: 400 PLN \nPrzepisy: IPSC\, ostatnia edycja i interpretacje.\nOgraniczenia: Zawody tylko dla zawodników IPSC:\n– polskich\, obecnych na liście zawodników Regionu IPSC Polska\, posiadających licencję zawodniczą PZSS\n– zagranicznych\, obecnych na listach swoich regionów. \nKontakt z organizatorem:  \nKrzysztof Klaczyński – 601 722 378\, e-mail: kaka215@op.pl\nLeszek Madajewski – 604 458 508\, e-mail: leszek@uklad.com.pl \nLISTA STARTOWA \nhttps://docs.google.com/spreadsheets/d/1eeNIR3LETUJFzF804GsAWpsOwZAD7VRJlj44wHGCiBA/edit?usp=sharing
URL:http://tarcza-poznan.pl/wydarzenie/mistrzostwa-wielkopolski-strzelba-ipsc-level-2/
ATTACH;FMTTYPE=image/png:http://tarcza-poznan.pl/wp-content/uploads/2021/03/Landscape-Travel-Photo-YouTube-Thumbnail-1.png
END:VEVENT
BEGIN:VEVENT
DTSTART;VALUE=DATE:20210508
DTEND;VALUE=DATE:20210510
DTSTAMP:20260424T021341
CREATED:20210321T104516Z
LAST-MODIFIED:20210424T171354Z
UID:2403-1620432000-1620604799@tarcza-poznan.pl
SUMMARY:IEDYCJA - PUCHAR NIECZAJNEJ 33 - PISTOLET IPSC LEVEL 1
DESCRIPTION:I Edycja – Pistolet IPSC + PCC L.1 PUCHAR „NIECZAJNEJ 33”\nZawody wpisane do kalendarza WZSS.\n\nMiejsce: Strzelnica „ Nieczajna 33„\nOrganizatorzy: WTS TARCZA POZNAŃ\, „Nieczajna 33”\nTermin zawodów: 8-9.05.2021 od godz. 9.00\nMinimalna liczba strzałów: ok.150\nLiczba torów: 6-7\nKlasy: Production\,Production Optics\, Standard\, Open\, PCC(otwarcie klasy przy min. 5 zawodnikach)\nKategorie: Regular\, Lady\, Senior\, Super Senior (otwarcie kategorii przy min. 5 zawodnikach)\nOpłata startowa (PLN): 150 PLN\, ( dodatkowo PCC – 100 PLN )\nWpłaty: Wielkopolskie Towarzystwo Strzeleckie TARCZA POZNAŃ\nBank Spółdzielczy Duszniki\n84 9072 0002 2018 1800 5143 0001\nTytuł przelewu: Puchar Nieczajnej\, Nazwisko i Imię zawodnika\n\nLink do rejestracji:https://practiscore.com/puchar-nieczajna-33-i…/register\n\nZawodnicy \, którzy chcą wziąć udział w zawodach i przy okazji posędziować wpisują się do składu 8.\n\nWERYFIKACJA OPŁAT: 28 kwietnia 2021\nJeżeli zajdzie konieczność po terminie 10 kwietnia 2021\, zawodnicy z nieopłaconą opłatą startową\, będą przenoszeni do składu oczekującego aby zwolnić miejsce innym chętnym do udziału w zawodach zawodnikom\, którzy opłacili opłatę.\nOpłata startowa dla zawodników płacących w dniu zawodów na strzelnicy: 200 PLN/klasę sprzętową\nOpłata nie może być wycofana\, może być przeniesiona na innego zawodnika.\nOrganizator zastrzega sobie prawo do zmian w składach ze względów organizacyjnych.\nOgraniczenia: Zawody dla zawodników – posiadających licencję zawodniczą PZSS na 2021r\nKontakt z organizatorem: Krzysztof Klaczyński \, tel.601722378\, kaka215@op.pl.
URL:http://tarcza-poznan.pl/wydarzenie/iedycja-puchar-nieczajnej-33-pistolet-ipsc-level-1/
ATTACH;FMTTYPE=image/png:http://tarcza-poznan.pl/wp-content/uploads/2021/03/9.png
END:VEVENT
END:VCALENDAR