BEGIN:VCALENDAR
VERSION:2.0
PRODID:-//Tarcza Poznań - ECPv6.1.3//NONSGML v1.0//EN
CALSCALE:GREGORIAN
METHOD:PUBLISH
X-WR-CALNAME:Tarcza Poznań
X-ORIGINAL-URL:http://tarcza-poznan.pl
X-WR-CALDESC:Events for Tarcza Poznań
REFRESH-INTERVAL;VALUE=DURATION:PT1H
X-Robots-Tag:noindex
X-PUBLISHED-TTL:PT1H
BEGIN:VTIMEZONE
TZID:Europe/Warsaw
BEGIN:DAYLIGHT
TZOFFSETFROM:+0100
TZOFFSETTO:+0200
TZNAME:CEST
DTSTART:20210328T010000
END:DAYLIGHT
BEGIN:STANDARD
TZOFFSETFROM:+0200
TZOFFSETTO:+0100
TZNAME:CET
DTSTART:20211031T010000
END:STANDARD
END:VTIMEZONE
BEGIN:VEVENT
DTSTART;VALUE=DATE:20210905
DTEND;VALUE=DATE:20210906
DTSTAMP:20260424T041204
CREATED:20210803T174917Z
LAST-MODIFIED:20210803T174917Z
UID:2476-1630800000-1630886399@tarcza-poznan.pl
SUMMARY: LETNIA STRZELBA IPSC L.2 O PUCHAR PREZESA WZSS – ZAWODY RANKINGOWE
DESCRIPTION:LETNIA STRZELBA IPSC L.2 O PUCHAR PREZESA WZSS – ZAWODY RANKINGOWE \nKierownik zawodów: Krzysztof Klaczyński\nSędzia główny: Leszek Madajewski\nKierownik biura obliczeń: Marta Madajewska\nDelegat Techniczny PZSS: Robert WronaOrganizatorzy: Wielkopolski Związek Strzelectwa Sportowego\, WTS TARCZA POZNAŃ\nStrzelnica: NIECZAJNA 33 \nMinimalna liczba strzałów: 130-140\nLiczba torów: 9 \nKlasy: Open\, Standard\, Standard Manual\, Modified (otwarcie klasy przy min. 5 zawodnikach)\nKategorie: Regular\, Lady\, Senior\, Super Senior (otwarcie kategorii przy min. 5 zawodnikach)\nAmunicja: Zgodna z przepisami IPSC \nPrzedmecz: Sobota – 04.09.2021 od godz. 11.00 \nMecz główny: Niedziel – 05.09.2021 – pierwsze strzały godz.9.00 \nSkłady: 7 składów po 10/12 strzelców \nGun check na pierwszym torze. \nLink rejestracyjny: https://practiscore.com/letnia-strzelba-ipsc-o-puchar-prezesa-wzss/register \nOpłata startowa (PLN): 300 PLN prosimy kierować na konto:\nOdbiorca: Wielkopolski Towarzystwo Strzelecki TARCZA POZNAŃ \nBank Spółdzielczy Duszniki \n84 9072 0002 2018 1800 5143 0001 \nTytuł wpłaty: IMIĘ NAZWISKO\, Letnia Strzelba L.2 \nWERYFIKACJA OPŁAT: 18.08.2021 \nJeżeli zajdzie konieczność po terminie 18.08.2021\, zawodnicy z nieopłaconą opłatą startową\, będą przenoszeni do składu oczekującego aby zwolnić miejsce innym chętnym do udziału w zawodach.\nOpłata startowa dla zawodników płacących w dniu zawodów na strzelnicy: 400 PLN\nOpłata nie może być wycofana\, może być przeniesiona na innego zawodnika. \nOrganizator zastrzega sobie prawo do zmian w składach ze względów organizacyjnych. \nOpłata arbitrażowa: 400 PLN \nPrzepisy: IPSC\, ostatnia edycja i interpretacje. \nOgraniczenia: Zawody tylko dla zawodników IPSC:\n– polskich\, obecnych na liście zawodników Regionu IPSC Polska\, posiadających licencję zawodniczą PZSS\n– zagranicznych\, obecnych na listach swoich regionów. \nKontakt z organizatorem: Krzysztof Klaczyński – 601 722 378\, e-mail: kaka215@op.pl\nLeszek Madajewski – 604 458 508\, e-mail: leszek@uklad.com.pl \n 
URL:http://tarcza-poznan.pl/wydarzenie/letnia-strzelba-ipsc-l-2-o-puchar-prezesa-wzss-zawody-rankingowe/
ATTACH;FMTTYPE=image/png:http://tarcza-poznan.pl/wp-content/uploads/2021/08/7.png
END:VEVENT
END:VCALENDAR