BEGIN:VCALENDAR
VERSION:2.0
PRODID:-//Tarcza Poznań - ECPv6.1.3//NONSGML v1.0//EN
CALSCALE:GREGORIAN
METHOD:PUBLISH
X-ORIGINAL-URL:http://tarcza-poznan.pl
X-WR-CALDESC:Events for Tarcza Poznań
REFRESH-INTERVAL;VALUE=DURATION:PT1H
X-Robots-Tag:noindex
X-PUBLISHED-TTL:PT1H
BEGIN:VTIMEZONE
TZID:Europe/Warsaw
BEGIN:DAYLIGHT
TZOFFSETFROM:+0100
TZOFFSETTO:+0200
TZNAME:CEST
DTSTART:20220327T010000
END:DAYLIGHT
BEGIN:STANDARD
TZOFFSETFROM:+0200
TZOFFSETTO:+0100
TZNAME:CET
DTSTART:20221030T010000
END:STANDARD
END:VTIMEZONE
BEGIN:VEVENT
DTSTART;VALUE=DATE:20220507
DTEND;VALUE=DATE:20220508
DTSTAMP:20260423T125248
CREATED:20220420T124121Z
LAST-MODIFIED:20220420T130619Z
UID:2528-1651881600-1651967999@tarcza-poznan.pl
SUMMARY:ZAWODY - STRZELBA IPSC L.1 – 07.05.2022 r.
DESCRIPTION:Zapraszamy na zawody STRZELBA IPSC L.1 – 07.05.2022r. \nOrganizator: Wielkopolskie Towarzystwo Strzeleckie TARCZA POZNAŃ \nZawody zgłoszone do kalendarza WZSS. \nStrzelnica: NIECZAJNA 33 (krótkie tory boczne) \nKierownik zawodów: Krzysztof Klaczyński \nTory: 6\nIlość strzałów: 100 śrut \nStart rejestracji: 22.04.2022 godzina 20:00 \nLink do rejestracji: https://practiscore.com/tarcza-poznan-strzelba-ipsc-l-1-07-05-2022r/register \nOpłaty\nPrzelew: 150 zł\nGotówka w dniu zawodów: 200 zł \nDane do przelewu:\nWielkopolskie Towarzystwo Strzeleckie TARCZA Poznań\nBank Spółdzielczy Duszniki\n84 9072 0002 2018 1800 5143 0001\nTytuł przelewu: Strzelba IPSC L1 – 7.05.2022\, Nazwisko i Imię Uczestnika \nHarmonogram zawodów: \nPrzedmecz – obsługa i sędziowie (zawodnicy – tylko za zgodą kierownika zawodów)\nSkład 1. 08:00-10:00 sobota\nSkład 2. 08:00-10:00 sobota\nSkład 3. 08:00-10:00 sobota \nMecz Główny\nSkład 4. 11:00-16:00 sobota\nSkład 5. 11:00-16:00 sobota\nSkład 6. 11:00-16:00 sobota\nSkład 7. 11:00-16.00 sobota \nInformacje dodatkowe:\n1. Zawodnicy proszeni są o przybycie na zawody 20 min przed rozpoczęciem strzelania\n2. Zawody będą przeprowadzone według regulaminu zawodów oraz regulaminu IPSC\n3. Zawodnik może startować w kilku klasach sprzętowych\n4. Sędzia Główny Zawodów może przesunąć zawodnika ze zmiany wybranej podczas rejestracji do innej zmiany. Zawodnik o przesunięciu zostanie poinformowany najpóźniej 24h przed otwarciem zawodów\n5. Organizator zastrzega sobie prawo do odwołania/przełożenia terminu zawodów z przyczyn niezależnych od Organizatora lub z powodu niewystarczającej frekwencji. \nKontakt z kierownikiem zawodów: 601722378 lub kaka215@op.pl
URL:http://tarcza-poznan.pl/wydarzenie/zawody-strzelba-ipsc-l-1-07-05-2022-r/
ATTACH;FMTTYPE=image/png:http://tarcza-poznan.pl/wp-content/uploads/2022/04/Landscape-Travel-Photo-YouTube-Thumbnail.png
END:VEVENT
END:VCALENDAR