BEGIN:VCALENDAR
VERSION:2.0
PRODID:-//Tarcza Poznań - ECPv6.1.3//NONSGML v1.0//EN
CALSCALE:GREGORIAN
METHOD:PUBLISH
X-ORIGINAL-URL:http://tarcza-poznan.pl
X-WR-CALDESC:Events for Tarcza Poznań
REFRESH-INTERVAL;VALUE=DURATION:PT1H
X-Robots-Tag:noindex
X-PUBLISHED-TTL:PT1H
BEGIN:VTIMEZONE
TZID:Europe/Warsaw
BEGIN:DAYLIGHT
TZOFFSETFROM:+0100
TZOFFSETTO:+0200
TZNAME:CEST
DTSTART:20220327T010000
END:DAYLIGHT
BEGIN:STANDARD
TZOFFSETFROM:+0200
TZOFFSETTO:+0100
TZNAME:CET
DTSTART:20221030T010000
END:STANDARD
END:VTIMEZONE
BEGIN:VEVENT
DTSTART;VALUE=DATE:20220626
DTEND;VALUE=DATE:20220627
DTSTAMP:20260423T111641
CREATED:20220513T070336Z
LAST-MODIFIED:20220517T121911Z
UID:2538-1656201600-1656287999@tarcza-poznan.pl
SUMMARY:LETNIA STRZELBA IPSC L.2 O PUCHAR PREZESA WZSS – III RUNDA PUCHARU POLSKI STRZELBA IPSC
DESCRIPTION:Kierownik zawodów: Krzysztof Klaczyński\nSędzia główny: Leszek Madajewski\nSędzia główny przedmecz: Tadeusz Noga\nKierownik biura obliczeń: Marta Madajewska\nDelegat Techniczny PZSS: Robert Wrona \nOrganizatorzy: Wielkopolski Związek Strzelectwa Sportowego\, WTS TARCZA POZNAŃ\nStrzelnica: NIECZAJNA 33 \nMinimalna liczba strzałów: 125-135\nLiczba torów: 9 \nKlasy: Open\, Standard\, Standard Manual\, Modified (otwarcie klasy przy min. 5 zawodnikach)\nKategorie: Lady\, Senior\, Super Senior (otwarcie kategorii przy min. 5 zawodnikach) \nAmunicja: Zgodna z przepisami IPSC \nPrzedmecz (tylko dla funkcyjnych zawodów i sponsorów): Sobota – 25.06.2022 od godz.11.00 \nOsoby\, które będą rejestrowały się jako sędziowie\, proszeni są o kontakt z Leszkiem Madajewskim – sędzią głównym\, przed rejestracją. \nMecz główny: Niedziela – 26.06.2022 od godz.9.00 (pierwsze strzały) \nSkłady: 8 składów po 10/12 strzelców\nGun check na pierwszym torze. \nLink rejestracyjny: https://www.practiscore.com/letnia-strzelba-ipsc-l-2-o-puchar-prezesa-wzss-ii-runda-pucharu-polski-strzelba-ipsc/register \nStart rejestracji: Poniedziałek 16.05.2022 godzina 20:00 \nOpłata startowa: 320 PLN \nOpłaty prosimy kierować na konto:\nWielkopolski Towarzystwo Strzelecki TARCZA POZNAŃ\nBank Spółdzielczy Duszniki\n84 9072 0002 2018 1800 5143 0001\nTytuł wpłaty: IMIĘ NAZWISKO\, Letnia Strzelba L.2 \nWERYFIKACJA OPŁAT: 05.06.2022\nJeżeli zajdzie konieczność po terminie 05.06.2022\, zawodnicy z nieopłaconą opłatą startową\, będą przenoszeni do składu oczekującego aby zwolnić miejsce innym chętnym do udziału w zawodach .\nOpłata startowa dla zawodników płacących w dniu zawodów na strzelnicy: 400 PLN\, tylko w przypadku gdy będą wolne miejsca startowe.\nOpłata nie może być wycofana\, może być przeniesiona na innego zawodnika.\nOrganizator zastrzega sobie prawo do zmian w składach ze względów organizacyjnych.\nOpłata arbitrażowa: 320 PLN\nPrzepisy: IPSC\, ostatnia edycja i interpretacje.\nOgraniczenia: Zawody tylko dla zawodników IPSC :\n– polskich\, obecnych na liście zawodników Regionu IPSC Polska\, posiadających licencję zawodniczą PZSS.\n– zagranicznych\, obecnych na listach swoich regionów. \nKontakt z organizatorem: Krzysztof Klaczyński – 601 722 378\, e-mail: kaka215@op.pl\nLeszek Madajewski – 604 458 508\, e-mail: leszek@uklad.com.pl
URL:http://tarcza-poznan.pl/wydarzenie/letnia-strzelba-ipsc-l-2-o-puchar-prezesa-wzss-ii-runda-pucharu-polski-strzelba-ipsc/
ATTACH;FMTTYPE=image/png:http://tarcza-poznan.pl/wp-content/uploads/2022/05/Landscape-Travel-Photo-YouTube-Thumbnail.png
END:VEVENT
END:VCALENDAR